{"text_format":"1","workbook":"xlsx","n_sheets":4,"sheets":["HOME","Sheet2","STATEMENT","ANNEXURE"],"not_rendered":{"charts":0,"images":1,"macros":1,"external_links":0,"defined_names":30,"comments":0,"pivot_tables":0},"unopened":[],"bounds":{"document_bytes":16777216,"sheet_cells":100000,"rows_first":2000,"rows_last":500,"rows_between":2000,"halvings":0,"cell_chars":16384,"cell_head_chars":4096},"cells_cut":0,"cells_raw":0,"read":"whole","date_system":"1900"}

{"sheet":"HOME","index":0,"n_rows":0,"n_cols":0,"rows_kept":0,"cut":false,"hidden":false,"merged":[]}

{"sheet":"Sheet2","index":1,"n_rows":69,"n_cols":16,"rows_kept":69,"cut":false,"hidden":true,"merged":[]}
[null,null,null,201206,{"$f":"VLOOKUP(D1,D2:E22,2,TRUE)","v":0.45},null,null,2006,null,null,null,null,"KURSEONG","DARJEELING",1,"ALIPURDUAR"]
[null,"ROPA 2009 (1690-F dt. 23.02.2009)",null,200601,0,null,null,2007,0,0,null,null,"MIRIK","DARJEELING",2,"BANKURA"]
[null,"1692-F dt. 23.02.2009","01.04.2008",200804,0.02,1,"JAN",2008,8501,90,null,null,"SADAR","DARJEELING",3,"BIRBHUM"]
[null,"-Do-","01.06.2008",200806,0.06,2,"FEB",2009,10001,110,null,null,"SILIGURI","DARJEELING",4,"COOCH BIHAR"]
[null,"-Do-","01.11.2008",200811,0.09,3,"MAR",2010,15001,130,null,null,"MAL","JALPAIGURI",5,"DAKSHIN DINAJPUR"]
[null,"-Do-","01.03.2009",200903,0.12,4,"APR",2011,25001,150,null,null,"SADAR","JALPAIGURI",6,"DARJEELING"]
[null,"-Do-","01.04.2009",200904,0.16,5,"MAY",2012,40001,200,null,null,"ISLAMPUR","UTTAR DINAJPUR",7,"HOOGHLY"]
[null,"10301-F dt. 03.12.2009","01.12.2009",200912,0.22,6,"JUN",2013,null,null,null,null,"RAIGANJ","UTTAR DINAJPUR",8,"HOWRAH"]
[null,"2580-F dt. 09.04.2010","01.04.2010",201004,0.27,7,"JUL",2014,null,null,null,null,"BALURGHAT SADAR","DAKSHIN DINAJPUR",9,"JALPAIGURI"]
[null,"10850-F dt. 23.11.2010","01.12.2010",201012,0.35,8,"AUG",2015,null,null,null,null,"GANGARAMPUR","DAKSHIN DINAJPUR",10,"JHARGRAM"]
[null,"11080-F dt. 12.12.2011","01.01.2012",201201,0.45,9,"SEP",2016,null,null,null,null,"CHANCHAL","MALDAH",11,"KALIMPONG"]
[null,"10615-F dt. 31.12.2012","01.01.2013",201301,0.52,10,"OCT",2017,null,null,null,null,"SADAR","MALDAH",12,"KOLKATA"]
[null,"8840-F dt. 16.12.2013","01.01.2014",201401,0.57999999999999996,11,"NOV",2018,null,null,null,null,"DOMKAL","MURSHIDABAD",13,"MALDAH"]
[null,"143-F dt. 09.01.2015","01.01.2015",201501,0.65,12,"DEC",2019,null,null,null,null,"JANGIPUR","MURSHIDABAD",14,"MURSHIDABAD"]
[null,"8430-F dt. 14.12.2015","01.01.2016",201601,0.75,null,null,2020,null,null,null,null,"KANDI","MURSHIDABAD",15,"NADIA"]
[null,"18-F dt. 02.01.2017","01.01.2017",201701,0.85,null,null,2021,null,"JAN",null,null,"LALBAGH","MURSHIDABAD",16,"NORTH 24 PARGANAS"]
[null,"5724-F dt. 12.09.2017","01.01.2018",201801,1,null,"HM",2022,null,{"$f":"MATCH(J16,MONTH,0)","v":1},null,null,"SADAR","MURSHIDABAD",17,"PASCHIM BARDDHAMAN"]
[null,"4037-F dt. 21.06.2018","01.01.2019",201901,1.25,null,"AHM",2023,null,null,null,null,"BOLPUR","BIRBHUM",18,"PASCHIM MEDINIPUR"]
["ROPA-19","78-F dt. 08.01.2021","01.01.2021",202001,0,null,"TIC",2024,null,null,null,null,"RAMPURHAT","BIRBHUM",19,"PURBA BARDDHAMAN"]
[null,"850-F dt. 24.02.2023","01.03.2023",202101,0.03,null,"AT",2025,null,null,null,null,"SADAR","BIRBHUM",20,"PURBA MEDINIPUR"]
[null,"56-F dt. 03.01.2024","01.01.2024",202303,0.06,null,"LIBRARIAN",null,null,null,null,null,"KALNA","PURBA BARDDHAMAN",21,"PURULIYA"]
[null,"1090-F dt. 01.03.2024","01.04.2024",202401,0.1,null,"CLERK",null,null,null,null,null,"KATWA","PURBA BARDDHAMAN",22,"SOUTH 24 PARGANAS"]
[null,"2691-F dt. 11.06.2024",null,202404,0.14000000000000001,null,"GR-D",null,null,null,null,null,"SADAR(NORTH)","PURBA BARDDHAMAN",23,"UTTAR DINAJPUR"]
[null,null,null,null,null,null,null,null,null,null,null,null,"SADAR(SOUTH)","PURBA BARDDHAMAN"]
[null,null,null,null,null,null,null,null,null,null,null,null,"KALYANI","NADIA"]
[null,null,null,null,null,null,null,null,null,null,null,null,"RANAGHAT","NADIA"]
[null,null,null,null,null,null,null,null,null,null,null,null,"SADAR","NADIA"]
[null,null,null,null,null,null,null,null,null,null,null,null,"TEHATTA","NADIA"]
[null,null,null,null,null,null,null,null,null,null,null,null,"BARASAT","NORTH 24 PARGANAS"]
[null,null,null,null,null,null,null,null,null,null,null,null,"BARRACKPORE","NORTH 24 PARGANAS"]
[null,null,null,null,null,null,null,null,null,null,null,null,"BASIRHAT","NORTH 24 PARGANAS"]
[null,null,null,null,null,null,null,null,null,null,null,null,"BIDHANNAGAR","NORTH 24 PARGANAS"]
[null,null,null,null,null,null,null,null,null,null,null,null,"BONGAON","NORTH 24 PARGANAS"]
[null,null,null,null,null,null,null,null,null,null,null,null,"ARAMBAG","HOOGHLY"]
[null,null,null,null,null,null,null,null,null,null,null,null,"CHANDANNAGAR","HOOGHLY"]
[null,null,null,null,null,null,null,null,null,null,null,null,"SADAR","HOOGHLY"]
[null,null,null,null,null,null,null,null,null,null,null,null,"SERAMPORE","HOOGHLY"]
[null,null,null,null,null,null,null,null,null,null,null,null,"BANKURA","BANKURA"]
[null,null,null,null,null,null,null,null,null,null,null,null,"BISHNUPUR","BANKURA"]
[null,null,null,null,null,null,null,null,null,null,null,null,"KHATRA","BANKURA"]
[null,null,null,null,null,null,null,null,null,null,null,null,"JHALDA","PURULIYA"]
[null,null,null,null,null,null,null,null,null,null,null,null,"RAGHUNATHPUR","PURULIYA"]
[null,null,null,null,null,null,null,null,null,null,null,null,"SADAR","PURULIYA"]
[null,null,null,null,null,null,null,null,null,null,null,null,"SADAR","HOWRAH"]
[null,null,null,null,null,null,null,null,null,null,null,null,"ULUBERIA","HOWRAH"]
[null,null,null,null,null,null,null,null,null,null,null,null,"KOLKATA","KOLKATA"]
[null,null,null,null,null,null,null,null,null,null,null,null,"EGRA","PURBA MEDINIPUR"]
[null,null,null,null,null,null,null,null,null,null,null,null,"HALDIA","PURBA MEDINIPUR"]
[null,null,null,null,null,null,null,null,null,null,null,null,"NORGHAT","PURBA MEDINIPUR"]
[null,null,null,null,null,null,null,null,null,null,null,null,"SADAR","PURBA MEDINIPUR"]
[null,null,null,null,null,null,null,null,null,null,null,null,"TAMLUK","PURBA MEDINIPUR"]
[null,null,null,null,null,null,null,null,null,null,null,null,"GHATAL","PASCHIM MEDINIPUR"]
[null,null,null,null,null,null,null,null,null,null,null,null,"KHARAGPUR","PASCHIM MEDINIPUR"]
[null,null,null,null,null,null,null,null,null,null,null,null,"SADAR","PASCHIM MEDINIPUR"]
[null,null,null,null,null,null,null,null,null,null,null,null,"COOCHBIHAR(SADAR)","COOCH BIHAR"]
[null,null,null,null,null,null,null,null,null,null,null,null,"DINHATA","COOCH BIHAR"]
[null,null,null,null,null,null,null,null,null,null,null,null,"MATHABHANGA","COOCH BIHAR"]
[null,null,null,null,null,null,null,null,null,null,null,null,"MEKLIGANJ","COOCH BIHAR"]
[null,null,null,null,null,null,null,null,null,null,null,null,"TUFANGANJ","COOCH BIHAR"]
[null,null,null,null,null,null,null,null,null,null,null,null,"BARUIPUR","SOUTH 24 PARGANAS"]
[null,null,null,null,null,null,null,null,null,null,null,null,"CANNING","SOUTH 24 PARGANAS"]
[null,null,null,null,null,null,null,null,null,null,null,null,"DIAMOND HARBOUR","SOUTH 24 PARGANAS"]
[null,null,null,null,null,null,null,null,null,null,null,null,"KAKDWIP","SOUTH 24 PARGANAS"]
[null,null,null,null,null,null,null,null,null,null,null,null,"SADAR","SOUTH 24 PARGANAS"]
[null,null,null,null,null,null,null,null,null,null,null,null,"ALIPURDUAR","ALIPURDUAR"]
[null,null,null,null,null,null,null,null,null,null,null,null,"KALIMPONG","KALIMPONG"]
[null,null,null,null,null,null,null,null,null,null,null,null,"JHARGRAM","JHARGRAM"]
[null,null,null,null,null,null,null,null,null,null,null,null,"ASANSOL","PASCHIM BARDDHAMAN"]
[null,null,null,null,null,null,null,null,null,null,null,null,"DURGAPUR","PASCHIM BARDDHAMAN"]

{"sheet":"STATEMENT","index":2,"n_rows":45,"n_cols":14,"rows_kept":45,"cut":false,"hidden":false,"merged":[[39,1,41,1],[39,2,41,2],[42,1,44,2],[30,1,32,1],[30,2,32,2],[33,1,35,1],[33,2,35,2],[36,1,38,1],[36,2,38,2],[21,1,23,1],[21,2,23,2],[24,1,26,1],[24,2,26,2],[27,1,29,1],[27,2,29,2],[12,1,14,1],[12,2,14,2],[15,1,17,1],[15,2,17,2],[18,1,20,1],[18,2,20,2],[6,1,8,1],[6,2,8,2],[9,1,11,1],[9,2,11,2],[1,1,1,13],[2,1,2,13],[3,1,3,13],[4,1,4,13]]}
[1]
[]
[]
[]
[]
[null,"MONTH","DA RATE",null,"BASIC","D.A","I.R","H.R.A","AD. REM","M.A","GROSS","P.T","P.F","NET"]
[null,null,null,"ADMISSIBLE",null,null,null,null,null,null,{"$f":"SUM(E7:J7)","v":0},null,0,{"$f":"K7-SUM(L7:M7)","v":0}]
[null,null,null,"DRAWN",null,null,null,null,null,null,{"$f":"SUM(E8:J8)","v":0},null,0,{"$f":"K8-SUM(L8:M8)","v":0}]
[null,null,null,"DIFFERENCE",{"$f":"ABS(E7-E8)","v":0},{"$f":"ABS(F7-F8)","v":0},0,0,0,0,{"$f":"SUM(E9:J9)","v":0},0,0,0]
[null,null,null,{"$f":"IF(C10<>\"\",\"ADMISSIBLE\",\"\")","v":""},null,null,null,null,null,null,{"$f":"SUM(E10:J10)","v":0},null,0,{"$f":"K10-SUM(L10:M10)","v":0}]
[null,null,null,{"$f":"IF(C10<>\"\",\"DRAWN\",\"\")","v":""},null,null,null,null,null,null,0,null,0,0]
[null,null,null,{"$f":"IF(C10<>\"\",\"DIFFERENCE\",\"\")","v":""},{"$f":"ABS(E10-E11)","v":0},{"$f":"ABS(F10-F11)","v":0},{"$f":"ABS(G10-G11)","v":0},{"$f":"ABS(H10-H11)","v":0},{"$f":"ABS(I10-I11)","v":0},{"$f":"ABS(J10-J11)","v":0},0,{"$f":"ABS(L10-L11)","v":0},{"$f":"ABS(M10-M11)","v":0},0]
[null,null,null,{"$f":"IF(C13<>\"\",\"ADMISSIBLE\",\"\")","v":""},null,null,null,null,null,null,0,null,0,{"$f":"K13-SUM(L13:M13)","v":0}]
[null,null,null,{"$f":"IF(C13<>\"\",\"DRAWN\",\"\")","v":""},null,null,null,null,null,null,0,null,0,0]
[null,null,null,{"$f":"IF(C13<>\"\",\"DIFFERENCE\",\"\")","v":""},{"$f":"ABS(E13-E14)","v":0},{"$f":"ABS(F13-F14)","v":0},{"$f":"ABS(G13-G14)","v":0},{"$f":"ABS(H13-H14)","v":0},{"$f":"ABS(I13-I14)","v":0},{"$f":"ABS(J13-J14)","v":0},0,{"$f":"ABS(L13-L14)","v":0},{"$f":"ABS(M13-M14)","v":0},0]
[null,null,null,{"$f":"IF(C16<>\"\",\"ADMISSIBLE\",\"\")","v":""},null,null,null,null,null,null,0,null,0,{"$f":"K16-SUM(L16:M16)","v":0}]
[null,null,null,{"$f":"IF(C16<>\"\",\"DRAWN\",\"\")","v":""},null,null,null,null,null,null,0,null,0,0]
[null,null,null,{"$f":"IF(C16<>\"\",\"DIFFERENCE\",\"\")","v":""},{"$f":"ABS(E16-E17)","v":0},{"$f":"ABS(F16-F17)","v":0},{"$f":"ABS(G16-G17)","v":0},{"$f":"ABS(H16-H17)","v":0},{"$f":"ABS(I16-I17)","v":0},{"$f":"ABS(J16-J17)","v":0},0,{"$f":"ABS(L16-L17)","v":0},{"$f":"ABS(M16-M17)","v":0},0]
[null,"","",{"$f":"IF(C19<>\"\",\"ADMISSIBLE\",\"\")","v":""},0,0,0,0,0,0,0,0,0,{"$f":"K19-SUM(L19:M19)","v":0}]
[null,null,null,{"$f":"IF(C19<>\"\",\"DRAWN\",\"\")","v":""},0,0,0,0,0,0,0,0,0,0]
[null,null,null,{"$f":"IF(C19<>\"\",\"DIFFERENCE\",\"\")","v":""},{"$f":"ABS(E19-E20)","v":0},{"$f":"ABS(F19-F20)","v":0},{"$f":"ABS(G19-G20)","v":0},{"$f":"ABS(H19-H20)","v":0},{"$f":"ABS(I19-I20)","v":0},{"$f":"ABS(J19-J20)","v":0},0,{"$f":"ABS(L19-L20)","v":0},{"$f":"ABS(M19-M20)","v":0},0]
[null,"","",{"$f":"IF(C22<>\"\",\"ADMISSIBLE\",\"\")","v":""},0,0,0,0,0,0,0,0,0,{"$f":"K22-SUM(L22:M22)","v":0}]
[null,null,null,{"$f":"IF(C22<>\"\",\"DRAWN\",\"\")","v":""},0,0,0,0,0,0,0,0,0,0]
[null,null,null,{"$f":"IF(C22<>\"\",\"DIFFERENCE\",\"\")","v":""},{"$f":"ABS(E22-E23)","v":0},{"$f":"ABS(F22-F23)","v":0},{"$f":"ABS(G22-G23)","v":0},{"$f":"ABS(H22-H23)","v":0},{"$f":"ABS(I22-I23)","v":0},{"$f":"ABS(J22-J23)","v":0},0,{"$f":"ABS(L22-L23)","v":0},{"$f":"ABS(M22-M23)","v":0},0]
[null,"","",{"$f":"IF(C25<>\"\",\"ADMISSIBLE\",\"\")","v":""},0,0,0,0,0,0,0,0,0,{"$f":"K25-SUM(L25:M25)","v":0}]
[null,null,null,{"$f":"IF(C25<>\"\",\"DRAWN\",\"\")","v":""},0,0,0,0,0,0,0,0,0,0]
[null,null,null,{"$f":"IF(C25<>\"\",\"DIFFERENCE\",\"\")","v":""},{"$f":"ABS(E25-E26)","v":0},{"$f":"ABS(F25-F26)","v":0},{"$f":"ABS(G25-G26)","v":0},{"$f":"ABS(H25-H26)","v":0},{"$f":"ABS(I25-I26)","v":0},{"$f":"ABS(J25-J26)","v":0},0,{"$f":"ABS(L25-L26)","v":0},{"$f":"ABS(M25-M26)","v":0},0]
[null,"","",{"$f":"IF(C28<>\"\",\"ADMISSIBLE\",\"\")","v":""},0,0,0,0,0,0,0,0,0,{"$f":"K28-SUM(L28:M28)","v":0}]
[null,null,null,{"$f":"IF(C28<>\"\",\"DRAWN\",\"\")","v":""},0,0,0,0,0,0,0,0,0,0]
[null,null,null,{"$f":"IF(C28<>\"\",\"DIFFERENCE\",\"\")","v":""},{"$f":"ABS(E28-E29)","v":0},{"$f":"ABS(F28-F29)","v":0},{"$f":"ABS(G28-G29)","v":0},{"$f":"ABS(H28-H29)","v":0},{"$f":"ABS(I28-I29)","v":0},{"$f":"ABS(J28-J29)","v":0},0,{"$f":"ABS(L28-L29)","v":0},{"$f":"ABS(M28-M29)","v":0},0]
[null,"","",{"$f":"IF(C31<>\"\",\"ADMISSIBLE\",\"\")","v":""},0,0,0,0,0,0,0,0,0,{"$f":"K31-SUM(L31:M31)","v":0}]
[null,null,null,{"$f":"IF(C31<>\"\",\"DRAWN\",\"\")","v":""},0,0,0,0,0,0,0,0,0,0]
[null,null,null,{"$f":"IF(C31<>\"\",\"DIFFERENCE\",\"\")","v":""},{"$f":"ABS(E31-E32)","v":0},{"$f":"ABS(F31-F32)","v":0},{"$f":"ABS(G31-G32)","v":0},{"$f":"ABS(H31-H32)","v":0},{"$f":"ABS(I31-I32)","v":0},{"$f":"ABS(J31-J32)","v":0},0,{"$f":"ABS(L31-L32)","v":0},{"$f":"ABS(M31-M32)","v":0},0]
[null,"","",{"$f":"IF(C34<>\"\",\"ADMISSIBLE\",\"\")","v":""},0,0,0,0,0,0,0,0,0,{"$f":"K34-SUM(L34:M34)","v":0}]
[null,null,null,{"$f":"IF(C34<>\"\",\"DRAWN\",\"\")","v":""},0,0,0,0,0,0,0,0,0,0]
[null,null,null,{"$f":"IF(C34<>\"\",\"DIFFERENCE\",\"\")","v":""},{"$f":"ABS(E34-E35)","v":0},{"$f":"ABS(F34-F35)","v":0},{"$f":"ABS(G34-G35)","v":0},{"$f":"ABS(H34-H35)","v":0},{"$f":"ABS(I34-I35)","v":0},{"$f":"ABS(J34-J35)","v":0},0,{"$f":"ABS(L34-L35)","v":0},{"$f":"ABS(M34-M35)","v":0},0]
[null,"","",{"$f":"IF(C37<>\"\",\"ADMISSIBLE\",\"\")","v":""},0,0,0,0,0,0,0,0,0,{"$f":"K37-SUM(L37:M37)","v":0}]
[null,null,null,{"$f":"IF(C37<>\"\",\"DRAWN\",\"\")","v":""},0,0,0,0,0,0,0,0,0,0]
[null,null,null,{"$f":"IF(C37<>\"\",\"DIFFERENCE\",\"\")","v":""},{"$f":"ABS(E37-E38)","v":0},{"$f":"ABS(F37-F38)","v":0},{"$f":"ABS(G37-G38)","v":0},{"$f":"ABS(H37-H38)","v":0},{"$f":"ABS(I37-I38)","v":0},{"$f":"ABS(J37-J38)","v":0},0,{"$f":"ABS(L37-L38)","v":0},{"$f":"ABS(M37-M38)","v":0},0]
[null,"","",{"$f":"IF(C40<>\"\",\"ADMISSIBLE\",\"\")","v":""},0,0,0,0,0,0,0,0,0,{"$f":"K40-SUM(L40:M40)","v":0}]
[null,null,null,{"$f":"IF(C40<>\"\",\"DRAWN\",\"\")","v":""},0,0,0,0,0,0,0,0,0,0]
[null,null,null,{"$f":"IF(C40<>\"\",\"DIFFERENCE\",\"\")","v":""},{"$f":"ABS(E40-E41)","v":0},{"$f":"ABS(F40-F41)","v":0},{"$f":"ABS(G40-G41)","v":0},{"$f":"ABS(H40-H41)","v":0},{"$f":"ABS(I40-I41)","v":0},{"$f":"ABS(J40-J41)","v":0},0,{"$f":"ABS(L40-L41)","v":0},{"$f":"ABS(M40-M41)","v":0},0]
[null,"TOTAL",null,"ADMISSIBLE",{"$f":"E7+E10+E13+E16+E19+E22+E25+E28+E31+E34+E37+E40","v":0},{"$f":"F7+F10+F13+F16+F19+F22+F25+F28+F31+F34+F37+F40","v":0},0,0,0,0,0,0,0,0]
[null,null,null,"DRAWN",{"$f":"E8+E11+E14+E17+E20+E23+E26+E29+E32+E35+E38+E41","v":0},{"$f":"F8+F11+F14+F17+F20+F23+F26+F29+F32+F35+F38+F41","v":0},0,0,0,0,0,0,0,0]
[null,null,null,"DIFFERENCE",{"$f":"ABS(E43-E44)","v":0},{"$f":"ABS(F43-F44)","v":0},{"$f":"ABS(G43-G44)","v":0},{"$f":"ABS(H43-H44)","v":0},{"$f":"ABS(I43-I44)","v":0},{"$f":"ABS(J43-J44)","v":0},{"$f":"ABS(K43-K44)","v":0},{"$f":"ABS(L43-L44)","v":0},{"$f":"ABS(M43-M44)","v":0},{"$f":"ABS(N43-N44)","v":0}]

{"sheet":"ANNEXURE","index":3,"n_rows":28,"n_cols":11,"rows_kept":28,"cut":false,"hidden":false,"merged":[[11,0,11,10],[10,0,10,10],[4,0,4,2],[0,0,0,10],[1,0,1,2],[3,0,3,2],[1,3,1,10],[3,3,3,10],[4,3,4,10],[2,0,2,2],[2,3,2,10]]}
["ANNEXURE - I"]
["NAME OF THE SCHOOL : ",null,null,"FW"]
["ADDRESS : ",null,null,"SUB-DIV : ALIPURDUAR, DIST : ALIPURDUAR"]
["NAME OF THE TEACHER : ",null,null,"FF, AT"]
["ARREAR FOR THE PERIOD : ",null,null,"OCT-2009 TO JAN-2010"]
[]
["DESCRIPTION","BP","DA","IR","HRA","ADD REM","MA","GROSS","PT","GPF","NET"]
["ADMISSIBLE",{"$f":"STATEMENT!E43","v":0},{"$f":"STATEMENT!F43","v":0},{"$f":"STATEMENT!G43","v":0},{"$f":"STATEMENT!H43","v":0},{"$f":"STATEMENT!I43","v":0},{"$f":"STATEMENT!J43","v":0},{"$f":"STATEMENT!K43","v":0},{"$f":"STATEMENT!L43","v":0},{"$f":"STATEMENT!M43","v":0},{"$f":"STATEMENT!N43","v":0}]
["DRAWN",{"$f":"STATEMENT!E44","v":0},{"$f":"STATEMENT!F44","v":0},{"$f":"STATEMENT!G44","v":0},{"$f":"STATEMENT!H44","v":0},{"$f":"STATEMENT!I44","v":0},{"$f":"STATEMENT!J44","v":0},{"$f":"STATEMENT!K44","v":0},{"$f":"STATEMENT!L44","v":0},{"$f":"STATEMENT!M44","v":0},{"$f":"STATEMENT!N44","v":0}]
["DIFFERENCE",{"$f":"ABS(B8-B9)","v":0},{"$f":"ABS(C8-C9)","v":0},0,0,0,0,0,0,0,0]
[{"$f":"\"NET  : \" &UPPER(word(K10))","v":"NET  : (RUPEES NILL"}]
["REASON FOR ARREAR : KK"]
[]
["Certified that :-"]
["1) The amount claim of this bill was not drawn before"]
["2) The office copy agrres with the fair copy of this bill"]
["3) The claim has been prepared with reference to acquittance roll and other office records."]
["4) Necessary notes have been kept in the o/c of the bills from was omitted in ordwer to avoid double "]
["   payment uin future."]
["5) The incumbent has not enjoyed any E.O.L during the period of claim."]
["6) I.Tax., P.Tax, GPF if any will be deducted & deposited through office challan."]
["7) The admissibillity of the arrear claim has been checked with reference to the Govt order, relevant"]
["    records and found in order."]
[]
["Signature of the Secy. / Administrator /D.D.O",null,null,null,null,null,null,null,"A.O / D.O (Accounts)"]
[]
[]
[null,null,null,null,null,"D.I of Schools"]